BEGIN:VCALENDAR
VERSION:2.0
PRODID:-//Dasmesh School - ECPv6.8.2.1//NONSGML v1.0//EN
CALSCALE:GREGORIAN
METHOD:PUBLISH
X-WR-CALNAME:Dasmesh School
X-ORIGINAL-URL:https://dasmeshschool.com
X-WR-CALDESC:Events for Dasmesh School
REFRESH-INTERVAL;VALUE=DURATION:PT1H
X-Robots-Tag:noindex
X-PUBLISHED-TTL:PT1H
BEGIN:VTIMEZONE
TZID:UTC
BEGIN:STANDARD
TZOFFSETFROM:+0000
TZOFFSETTO:+0000
TZNAME:UTC
DTSTART:20220101T000000
END:STANDARD
END:VTIMEZONE
BEGIN:VEVENT
DTSTART;VALUE=DATE:20220523
DTEND;VALUE=DATE:20220524
DTSTAMP:20260421T233342
CREATED:20220204T034240Z
LAST-MODIFIED:20220204T034240Z
UID:8409-1653264000-1653350399@dasmeshschool.com
SUMMARY:Victoria Day
DESCRIPTION:
URL:https://dasmeshschool.com/event/victoria-day-2/
END:VEVENT
BEGIN:VEVENT
DTSTART;VALUE=DATE:20220519
DTEND;VALUE=DATE:20220520
DTSTAMP:20260421T233342
CREATED:20220204T034037Z
LAST-MODIFIED:20220204T034037Z
UID:8407-1652918400-1653004799@dasmeshschool.com
SUMMARY:Zone Championships
DESCRIPTION:At Rotary
URL:https://dasmeshschool.com/event/zone-championships-2/
END:VEVENT
BEGIN:VEVENT
DTSTART;TZID=UTC:20220518T150000
DTEND;TZID=UTC:20220518T173000
DTSTAMP:20260421T233342
CREATED:20220204T034011Z
LAST-MODIFIED:20220204T034011Z
UID:8405-1652886000-1652895000@dasmeshschool.com
SUMMARY:All Athletes going on to next level
DESCRIPTION:
URL:https://dasmeshschool.com/event/all-athletes-going-on-to-next-level/
END:VEVENT
BEGIN:VEVENT
DTSTART;VALUE=DATE:20220517
DTEND;VALUE=DATE:20220518
DTSTAMP:20260421T233342
CREATED:20220204T033933Z
LAST-MODIFIED:20220204T033933Z
UID:8403-1652745600-1652831999@dasmeshschool.com
SUMMARY:Zone Championships
DESCRIPTION:At Rotary
URL:https://dasmeshschool.com/event/zone-championships/
END:VEVENT
BEGIN:VEVENT
DTSTART;TZID=UTC:20220516T150000
DTEND;TZID=UTC:20220516T173000
DTSTAMP:20260421T233342
CREATED:20220204T033901Z
LAST-MODIFIED:20220204T033901Z
UID:8401-1652713200-1652722200@dasmeshschool.com
SUMMARY:All Athletes (Field)
DESCRIPTION:Going on to next level
URL:https://dasmeshschool.com/event/all-athletes-field-4/
END:VEVENT
BEGIN:VEVENT
DTSTART;VALUE=DATE:20220511
DTEND;VALUE=DATE:20220512
DTSTAMP:20260421T233342
CREATED:20220204T033750Z
LAST-MODIFIED:20220204T033750Z
UID:8399-1652227200-1652313599@dasmeshschool.com
SUMMARY:Abby Invitational
DESCRIPTION:At Rotary Stadium
URL:https://dasmeshschool.com/event/abby-invitational/
END:VEVENT
BEGIN:VEVENT
DTSTART;TZID=UTC:20220510T150000
DTEND;TZID=UTC:20220510T173000
DTSTAMP:20260421T233342
CREATED:20220204T033722Z
LAST-MODIFIED:20220204T033722Z
UID:8397-1652194800-1652203800@dasmeshschool.com
SUMMARY:All Athletes ( Field/Gym)
DESCRIPTION:
URL:https://dasmeshschool.com/event/all-athletes-field-gym-3/
END:VEVENT
BEGIN:VEVENT
DTSTART;VALUE=DATE:20220427
DTEND;VALUE=DATE:20220428
DTSTAMP:20260421T233342
CREATED:20220204T033418Z
LAST-MODIFIED:20220204T033418Z
UID:8393-1651017600-1651103999@dasmeshschool.com
SUMMARY:Practice Meet 3
DESCRIPTION:At Rotary Stadium
URL:https://dasmeshschool.com/event/practice-meet-3/
END:VEVENT
BEGIN:VEVENT
DTSTART;TZID=UTC:20220426T150000
DTEND;TZID=UTC:20220426T173000
DTSTAMP:20260421T233342
CREATED:20220204T033329Z
LAST-MODIFIED:20220204T033329Z
UID:8391-1650985200-1650994200@dasmeshschool.com
SUMMARY:All Athletes (Gym/ Field)
DESCRIPTION:
URL:https://dasmeshschool.com/event/all-athletes-gym-field-2/
END:VEVENT
BEGIN:VEVENT
DTSTART;TZID=UTC:20220425T150000
DTEND;TZID=UTC:20220425T173000
DTSTAMP:20260421T233342
CREATED:20220204T033300Z
LAST-MODIFIED:20220204T033300Z
UID:8389-1650898800-1650907800@dasmeshschool.com
SUMMARY:All Athletes (Field)
DESCRIPTION:
URL:https://dasmeshschool.com/event/all-athletes-field-2/
END:VEVENT
BEGIN:VEVENT
DTSTART;VALUE=DATE:20220421
DTEND;VALUE=DATE:20220422
DTSTAMP:20260421T233342
CREATED:20220204T033225Z
LAST-MODIFIED:20220204T033435Z
UID:8387-1650499200-1650585599@dasmeshschool.com
SUMMARY:Practice Meet 2
DESCRIPTION:At Rotary Stadium
URL:https://dasmeshschool.com/event/practice-meet-2/
END:VEVENT
BEGIN:VEVENT
DTSTART;TZID=UTC:20220420T150000
DTEND;TZID=UTC:20220420T173000
DTSTAMP:20260421T233342
CREATED:20220204T033100Z
LAST-MODIFIED:20220204T033100Z
UID:8385-1650466800-1650475800@dasmeshschool.com
SUMMARY:All Athletes (Field)
DESCRIPTION:
URL:https://dasmeshschool.com/event/all-athletes-field/
END:VEVENT
BEGIN:VEVENT
DTSTART;TZID=UTC:20220419T150000
DTEND;TZID=UTC:20220419T173000
DTSTAMP:20260421T233342
CREATED:20220204T032916Z
LAST-MODIFIED:20220204T032916Z
UID:8383-1650380400-1650389400@dasmeshschool.com
SUMMARY:All Athletes (Field/ Gym)
DESCRIPTION:
URL:https://dasmeshschool.com/event/all-athletes-field-gym-2/
END:VEVENT
BEGIN:VEVENT
DTSTART;VALUE=DATE:20220418
DTEND;VALUE=DATE:20220419
DTSTAMP:20260421T233342
CREATED:20220204T032837Z
LAST-MODIFIED:20220204T032837Z
UID:8381-1650240000-1650326399@dasmeshschool.com
SUMMARY:Easter
DESCRIPTION:
URL:https://dasmeshschool.com/event/easter/
END:VEVENT
BEGIN:VEVENT
DTSTART;VALUE=DATE:20220415
DTEND;VALUE=DATE:20220416
DTSTAMP:20260421T233342
CREATED:20220204T032812Z
LAST-MODIFIED:20220204T032812Z
UID:8379-1649980800-1650067199@dasmeshschool.com
SUMMARY:Good Friday
DESCRIPTION:
URL:https://dasmeshschool.com/event/good-friday-2/
END:VEVENT
BEGIN:VEVENT
DTSTART;VALUE=DATE:20220414
DTEND;VALUE=DATE:20220415
DTSTAMP:20260421T233342
CREATED:20220204T032713Z
LAST-MODIFIED:20220204T033443Z
UID:8377-1649894400-1649980799@dasmeshschool.com
SUMMARY:Practice Meet 1
DESCRIPTION:At Rotary Stadium
URL:https://dasmeshschool.com/event/practice-meet-1/
END:VEVENT
BEGIN:VEVENT
DTSTART;TZID=UTC:20220413T150000
DTEND;TZID=UTC:20220413T173000
DTSTAMP:20260421T233342
CREATED:20220204T032528Z
LAST-MODIFIED:20220204T032528Z
UID:8375-1649862000-1649871000@dasmeshschool.com
SUMMARY:Runners and Jumpers (Field)
DESCRIPTION:
URL:https://dasmeshschool.com/event/runners-and-jumpers-field-2/
END:VEVENT
BEGIN:VEVENT
DTSTART;TZID=UTC:20220412T150000
DTEND;TZID=UTC:20220412T173000
DTSTAMP:20260421T233342
CREATED:20220204T032451Z
LAST-MODIFIED:20220204T032451Z
UID:8373-1649775600-1649784600@dasmeshschool.com
SUMMARY:All Athletes (Field/ Gym)
DESCRIPTION:
URL:https://dasmeshschool.com/event/all-athletes-field-gym/
END:VEVENT
BEGIN:VEVENT
DTSTART;TZID=UTC:20220411T150000
DTEND;TZID=UTC:20220411T173000
DTSTAMP:20260421T233342
CREATED:20220204T032413Z
LAST-MODIFIED:20220204T032413Z
UID:8371-1649689200-1649698200@dasmeshschool.com
SUMMARY:Throwers (Field)
DESCRIPTION:
URL:https://dasmeshschool.com/event/throwers-field-3/
END:VEVENT
BEGIN:VEVENT
DTSTART;TZID=UTC:20220406T150000
DTEND;TZID=UTC:20220406T173000
DTSTAMP:20260421T233342
CREATED:20220204T032342Z
LAST-MODIFIED:20220204T032342Z
UID:8369-1649257200-1649266200@dasmeshschool.com
SUMMARY:Runners and Jumpers
DESCRIPTION:
URL:https://dasmeshschool.com/event/runners-and-jumpers/
END:VEVENT
BEGIN:VEVENT
DTSTART;TZID=UTC:20220405T150000
DTEND;TZID=UTC:20220405T173000
DTSTAMP:20260421T233342
CREATED:20220204T032258Z
LAST-MODIFIED:20220204T032258Z
UID:8367-1649170800-1649179800@dasmeshschool.com
SUMMARY:All Athletes(Field/Gym)
DESCRIPTION:
URL:https://dasmeshschool.com/event/all-athletesfield-gym/
END:VEVENT
BEGIN:VEVENT
DTSTART;TZID=UTC:20220404T150000
DTEND;TZID=UTC:20220404T173000
DTSTAMP:20260421T233342
CREATED:20220204T032210Z
LAST-MODIFIED:20220204T032210Z
UID:8365-1649084400-1649093400@dasmeshschool.com
SUMMARY:Throwers (Field)
DESCRIPTION:
URL:https://dasmeshschool.com/event/throwers-field-2/
END:VEVENT
BEGIN:VEVENT
DTSTART;TZID=UTC:20220330T150000
DTEND;TZID=UTC:20220330T173000
DTSTAMP:20260421T233342
CREATED:20220204T032140Z
LAST-MODIFIED:20220204T032140Z
UID:8363-1648652400-1648661400@dasmeshschool.com
SUMMARY:Runners and Jumpers (Field)
DESCRIPTION:
URL:https://dasmeshschool.com/event/runners-and-jumpers-field/
END:VEVENT
BEGIN:VEVENT
DTSTART;TZID=UTC:20220329T150000
DTEND;TZID=UTC:20220329T173000
DTSTAMP:20260421T233342
CREATED:20220204T032107Z
LAST-MODIFIED:20220204T032107Z
UID:8361-1648566000-1648575000@dasmeshschool.com
SUMMARY:All Athletes ( Gym/ Field)
DESCRIPTION:
URL:https://dasmeshschool.com/event/all-athletes-gym-field/
END:VEVENT
BEGIN:VEVENT
DTSTART;TZID=UTC:20220328T150000
DTEND;TZID=UTC:20220328T173000
DTSTAMP:20260421T233342
CREATED:20220204T031715Z
LAST-MODIFIED:20220204T031715Z
UID:8359-1648479600-1648488600@dasmeshschool.com
SUMMARY:Throwers (Field)
DESCRIPTION:
URL:https://dasmeshschool.com/event/throwers-field/
END:VEVENT
BEGIN:VEVENT
DTSTART;TZID=UTC:20220328T150000
DTEND;TZID=UTC:20220328T170000
DTSTAMP:20260421T233342
CREATED:20220204T030115Z
LAST-MODIFIED:20220204T031947Z
UID:8331-1648479600-1648486800@dasmeshschool.com
SUMMARY:Thrower's (Outside)
DESCRIPTION:
URL:https://dasmeshschool.com/event/throwers-outside/
END:VEVENT
BEGIN:VEVENT
DTSTART;VALUE=DATE:20220328
DTEND;VALUE=DATE:20220329
DTSTAMP:20260421T233342
CREATED:20220204T030936Z
LAST-MODIFIED:20220204T031934Z
UID:8349-1648425600-1648511999@dasmeshschool.com
SUMMARY:Back To School
DESCRIPTION:Welcome back Falcons!
URL:https://dasmeshschool.com/event/back-to-school/
END:VEVENT
BEGIN:VEVENT
DTSTART;VALUE=DATE:20220327
DTEND;VALUE=DATE:20220328
DTSTAMP:20260421T233342
CREATED:20220204T031637Z
LAST-MODIFIED:20220204T031914Z
UID:8357-1648339200-1648425599@dasmeshschool.com
SUMMARY:Practice Meets Begin Soon
DESCRIPTION:Meets are usually on Thursdays
URL:https://dasmeshschool.com/event/practice-meets-begin-soon/
END:VEVENT
BEGIN:VEVENT
DTSTART;TZID=UTC:20220325T100000
DTEND;TZID=UTC:20220325T123000
DTSTAMP:20260421T233342
CREATED:20220204T031440Z
LAST-MODIFIED:20220204T031818Z
UID:8355-1648202400-1648211400@dasmeshschool.com
SUMMARY:All Athletes (Gym and Field)
DESCRIPTION:dress accordingly:)
URL:https://dasmeshschool.com/event/all-athletes-gym-and-field-2/
END:VEVENT
BEGIN:VEVENT
DTSTART;VALUE=DATE:20220312
DTEND;VALUE=DATE:20220328
DTSTAMP:20260421T233342
CREATED:20220204T030827Z
LAST-MODIFIED:20220204T030827Z
UID:8347-1647043200-1648425599@dasmeshschool.com
SUMMARY:Spring Break
DESCRIPTION:Enjoy your break:)!!
URL:https://dasmeshschool.com/event/spring-break-7/
END:VEVENT
END:VCALENDAR