BEGIN:VCALENDAR
VERSION:2.0
PRODID:-//Dasmesh School - ECPv6.8.2.1//NONSGML v1.0//EN
CALSCALE:GREGORIAN
METHOD:PUBLISH
X-WR-CALNAME:Dasmesh School
X-ORIGINAL-URL:https://dasmeshschool.com
X-WR-CALDESC:Events for Dasmesh School
REFRESH-INTERVAL;VALUE=DURATION:PT1H
X-Robots-Tag:noindex
X-PUBLISHED-TTL:PT1H
BEGIN:VTIMEZONE
TZID:UTC
BEGIN:STANDARD
TZOFFSETFROM:+0000
TZOFFSETTO:+0000
TZNAME:UTC
DTSTART:20210101T000000
END:STANDARD
END:VTIMEZONE
BEGIN:VEVENT
DTSTART;TZID=UTC:20220309T150000
DTEND;TZID=UTC:20220309T173000
DTSTAMP:20260422T051126
CREATED:20220204T030629Z
LAST-MODIFIED:20220204T030629Z
UID:8345-1646838000-1646847000@dasmeshschool.com
SUMMARY:All Athletes (Outside)
DESCRIPTION:
URL:https://dasmeshschool.com/event/all-athletes-outside-3/
END:VEVENT
BEGIN:VEVENT
DTSTART;TZID=UTC:20220308T150000
DTEND;TZID=UTC:20220308T173000
DTSTAMP:20260422T051126
CREATED:20220204T030558Z
LAST-MODIFIED:20220204T030558Z
UID:8343-1646751600-1646760600@dasmeshschool.com
SUMMARY:All Athletes (Gym)
DESCRIPTION:
URL:https://dasmeshschool.com/event/all-athletes-gym-3/
END:VEVENT
BEGIN:VEVENT
DTSTART;TZID=UTC:20220307T150000
DTEND;TZID=UTC:20220307T170000
DTSTAMP:20260422T051126
CREATED:20220204T030517Z
LAST-MODIFIED:20220204T030517Z
UID:8341-1646665200-1646672400@dasmeshschool.com
SUMMARY:Throwers (Outside)
DESCRIPTION:
URL:https://dasmeshschool.com/event/throwers-outside-2/
END:VEVENT
BEGIN:VEVENT
DTSTART;TZID=UTC:20220302T150000
DTEND;TZID=UTC:20220302T170000
DTSTAMP:20260422T051126
CREATED:20220204T030250Z
LAST-MODIFIED:20220204T030250Z
UID:8336-1646233200-1646240400@dasmeshschool.com
SUMMARY:Runner's and Jumper's (Outside)
DESCRIPTION:
URL:https://dasmeshschool.com/event/runners-and-jumpers-outside-2/
END:VEVENT
BEGIN:VEVENT
DTSTART;TZID=UTC:20220301T150000
DTEND;TZID=UTC:20220301T173000
DTSTAMP:20260422T051126
CREATED:20220204T030207Z
LAST-MODIFIED:20220204T030207Z
UID:8333-1646146800-1646155800@dasmeshschool.com
SUMMARY:All Athletes (Gym)
DESCRIPTION:
URL:https://dasmeshschool.com/event/all-athletes-gym-2/
END:VEVENT
BEGIN:VEVENT
DTSTART;TZID=UTC:20220223T150000
DTEND;TZID=UTC:20220223T170000
DTSTAMP:20260422T051126
CREATED:20220204T030025Z
LAST-MODIFIED:20220204T030025Z
UID:8328-1645628400-1645635600@dasmeshschool.com
SUMMARY:Runner's and Jumper's (Outside)
DESCRIPTION:
URL:https://dasmeshschool.com/event/runners-and-jumpers-outside/
END:VEVENT
BEGIN:VEVENT
DTSTART;TZID=UTC:20220222T150000
DTEND;TZID=UTC:20220222T173000
DTSTAMP:20260422T051126
CREATED:20220204T025832Z
LAST-MODIFIED:20220204T025832Z
UID:8324-1645542000-1645551000@dasmeshschool.com
SUMMARY:All Athletes (Outside)
DESCRIPTION:Grade 7 Basketball Game
URL:https://dasmeshschool.com/event/all-athletes-outside-2/
END:VEVENT
BEGIN:VEVENT
DTSTART;VALUE=DATE:20220221
DTEND;VALUE=DATE:20220222
DTSTAMP:20260422T051126
CREATED:20220204T025502Z
LAST-MODIFIED:20220204T025933Z
UID:8322-1645401600-1645487999@dasmeshschool.com
SUMMARY:Family Day
DESCRIPTION:
URL:https://dasmeshschool.com/event/family-day/
END:VEVENT
BEGIN:VEVENT
DTSTART;VALUE=DATE:20220218
DTEND;VALUE=DATE:20220219
DTSTAMP:20260422T051126
CREATED:20220204T025429Z
LAST-MODIFIED:20220204T025429Z
UID:8320-1645142400-1645228799@dasmeshschool.com
SUMMARY:Pro-D Day
DESCRIPTION:
URL:https://dasmeshschool.com/event/pro-d-day-4/
END:VEVENT
BEGIN:VEVENT
DTSTART;TZID=UTC:20220216T150000
DTEND;TZID=UTC:20220216T170000
DTSTAMP:20260422T051126
CREATED:20220204T025235Z
LAST-MODIFIED:20220204T025235Z
UID:8318-1645023600-1645030800@dasmeshschool.com
SUMMARY:All Athletes (Outside)
DESCRIPTION:Dress Warm
URL:https://dasmeshschool.com/event/all-athletes-outside/
END:VEVENT
BEGIN:VEVENT
DTSTART;TZID=UTC:20220215T150000
DTEND;TZID=UTC:20220215T173000
DTSTAMP:20260422T051126
CREATED:20220204T024900Z
LAST-MODIFIED:20220204T024900Z
UID:8315-1644937200-1644946200@dasmeshschool.com
SUMMARY:All Athletes (Gym)
DESCRIPTION:
URL:https://dasmeshschool.com/event/all-athletes-gym/
END:VEVENT
BEGIN:VEVENT
DTSTART;TZID=UTC:20220214T100000
DTEND;TZID=UTC:20220214T123000
DTSTAMP:20260422T051126
CREATED:20220204T031355Z
LAST-MODIFIED:20220204T031355Z
UID:8353-1644832800-1644841800@dasmeshschool.com
SUMMARY:All Athletes (Gym and Field)
DESCRIPTION:
URL:https://dasmeshschool.com/event/all-athletes-gym-and-field/
END:VEVENT
BEGIN:VEVENT
DTSTART;VALUE=DATE:20220213
DTEND;VALUE=DATE:20220214
DTSTAMP:20260422T051126
CREATED:20220204T031228Z
LAST-MODIFIED:20220204T031228Z
UID:8351-1644710400-1644796799@dasmeshschool.com
SUMMARY:Daylight Savings
DESCRIPTION:All practices will run until 5:30/6 pm
URL:https://dasmeshschool.com/event/daylight-savings/
END:VEVENT
BEGIN:VEVENT
DTSTART;TZID=UTC:20220207T181500
DTEND;TZID=UTC:20220207T193000
DTSTAMP:20260422T051126
CREATED:20211110T061559Z
LAST-MODIFIED:20211110T061746Z
UID:8130-1644257700-1644262200@dasmeshschool.com
SUMMARY:Senior Girls-Highland Away 6:15 (BB)
DESCRIPTION:
URL:https://dasmeshschool.com/event/senior-girls-highland-home-615-bb-2/
END:VEVENT
BEGIN:VEVENT
DTSTART;TZID=UTC:20220203T150000
DTEND;TZID=UTC:20220509T173000
DTSTAMP:20260422T051126
CREATED:20220204T033639Z
LAST-MODIFIED:20220204T033639Z
UID:8395-1643900400-1652117400@dasmeshschool.com
SUMMARY:All Athletes (Field)
DESCRIPTION:
URL:https://dasmeshschool.com/event/all-athletes-field-3/
END:VEVENT
BEGIN:VEVENT
DTSTART;TZID=UTC:20220201T181500
DTEND;TZID=UTC:20220201T193000
DTSTAMP:20260422T051126
CREATED:20211110T061513Z
LAST-MODIFIED:20211110T061513Z
UID:8128-1643739300-1643743800@dasmeshschool.com
SUMMARY:Senior Girls- Hope Home 6:15 (BB)
DESCRIPTION:
URL:https://dasmeshschool.com/event/senior-girls-hope-home-615-bb/
END:VEVENT
BEGIN:VEVENT
DTSTART;TZID=UTC:20220131T200000
DTEND;TZID=UTC:20220131T213000
DTSTAMP:20260422T051126
CREATED:20211110T061353Z
LAST-MODIFIED:20211110T061353Z
UID:8126-1643659200-1643664600@dasmeshschool.com
SUMMARY:Senior Boys- Agassiz Home 8:00 (BB)
DESCRIPTION:
URL:https://dasmeshschool.com/event/senior-boys-agassiz-home-800-bb/
END:VEVENT
BEGIN:VEVENT
DTSTART;TZID=UTC:20220131T181500
DTEND;TZID=UTC:20220131T193000
DTSTAMP:20260422T051126
CREATED:20211110T061310Z
LAST-MODIFIED:20211110T061310Z
UID:8124-1643652900-1643657400@dasmeshschool.com
SUMMARY:Senior Girls- Agassiz Home 6:15 (BB)
DESCRIPTION:
URL:https://dasmeshschool.com/event/senior-girls-agassiz-home-615-bb/
END:VEVENT
BEGIN:VEVENT
DTSTART;TZID=UTC:20220126T200000
DTEND;TZID=UTC:20220126T213000
DTSTAMP:20260422T051126
CREATED:20211110T061055Z
LAST-MODIFIED:20211110T061055Z
UID:8122-1643227200-1643232600@dasmeshschool.com
SUMMARY:Senior Boys- Unity Home 8:00 (BB)
DESCRIPTION:
URL:https://dasmeshschool.com/event/senior-boys-unity-home-800-bb/
END:VEVENT
BEGIN:VEVENT
DTSTART;TZID=UTC:20220126T181500
DTEND;TZID=UTC:20220126T193000
DTSTAMP:20260422T051126
CREATED:20211110T060958Z
LAST-MODIFIED:20211110T060958Z
UID:8120-1643220900-1643225400@dasmeshschool.com
SUMMARY:Senior Girls-Unity Home 6:15 (BB)
DESCRIPTION:
URL:https://dasmeshschool.com/event/senior-girls-unity-home-615-bb/
END:VEVENT
BEGIN:VEVENT
DTSTART;TZID=UTC:20220124T200000
DTEND;TZID=UTC:20220124T213000
DTSTAMP:20260422T051126
CREATED:20211110T060638Z
LAST-MODIFIED:20211110T060638Z
UID:8117-1643054400-1643059800@dasmeshschool.com
SUMMARY:Senior Boys- Credo Home 8:00 (BB)
DESCRIPTION:
URL:https://dasmeshschool.com/event/senior-boys-credo-home-800-bb/
END:VEVENT
BEGIN:VEVENT
DTSTART;TZID=UTC:20220124T181500
DTEND;TZID=UTC:20220124T193000
DTSTAMP:20260422T051126
CREATED:20211110T060533Z
LAST-MODIFIED:20211110T060533Z
UID:8115-1643048100-1643052600@dasmeshschool.com
SUMMARY:Senior Girls- Credo Home 6:15 (BB)
DESCRIPTION:
URL:https://dasmeshschool.com/event/senior-girls-credo-home-615-bb/
END:VEVENT
BEGIN:VEVENT
DTSTART;TZID=UTC:20220119T173000
DTEND;TZID=UTC:20220119T190000
DTSTAMP:20260422T051126
CREATED:20211110T063040Z
LAST-MODIFIED:20211110T063040Z
UID:8144-1642613400-1642618800@dasmeshschool.com
SUMMARY:Grade 9- Hansen Away 5:30 (BB)
DESCRIPTION:
URL:https://dasmeshschool.com/event/grade-9-hansen-away-530-bb/
END:VEVENT
BEGIN:VEVENT
DTSTART;TZID=UTC:20220117T181500
DTEND;TZID=UTC:20220117T193000
DTSTAMP:20260422T051126
CREATED:20211110T060401Z
LAST-MODIFIED:20211110T060401Z
UID:8113-1642443300-1642447800@dasmeshschool.com
SUMMARY:Senior Girls- Highland Home 6:15 (BB)
DESCRIPTION:
URL:https://dasmeshschool.com/event/senior-girls-highland-home-615-bb/
END:VEVENT
BEGIN:VEVENT
DTSTART;TZID=UTC:20220112T181500
DTEND;TZID=UTC:20220112T193000
DTSTAMP:20260422T051126
CREATED:20211110T060155Z
LAST-MODIFIED:20211110T060155Z
UID:8111-1642011300-1642015800@dasmeshschool.com
SUMMARY:Senior Girls- Hope Away 6:15 (BB)
DESCRIPTION:
URL:https://dasmeshschool.com/event/senior-girls-hope-away-615-bb/
END:VEVENT
BEGIN:VEVENT
DTSTART;TZID=UTC:20220112T160000
DTEND;TZID=UTC:20220112T173000
DTSTAMP:20260422T051126
CREATED:20211110T062944Z
LAST-MODIFIED:20211110T062944Z
UID:8142-1642003200-1642008600@dasmeshschool.com
SUMMARY:Grade 9- Yale Away 4:00 (BB)
DESCRIPTION:
URL:https://dasmeshschool.com/event/grade-9-yale-away-400-bb/
END:VEVENT
BEGIN:VEVENT
DTSTART;TZID=UTC:20220110T200000
DTEND;TZID=UTC:20220110T213000
DTSTAMP:20260422T051126
CREATED:20211110T055855Z
LAST-MODIFIED:20211110T055855Z
UID:8109-1641844800-1641850200@dasmeshschool.com
SUMMARY:Senior Boys- Agassiz Away 8:00 (BB)
DESCRIPTION:
URL:https://dasmeshschool.com/event/senior-boys-agassiz-away-800-bb/
END:VEVENT
BEGIN:VEVENT
DTSTART;TZID=UTC:20220110T181500
DTEND;TZID=UTC:20220110T193000
DTSTAMP:20260422T051126
CREATED:20211110T055810Z
LAST-MODIFIED:20211110T055810Z
UID:8107-1641838500-1641843000@dasmeshschool.com
SUMMARY:Senior Girls- Agassiz Away 6:15 (BB)
DESCRIPTION:
URL:https://dasmeshschool.com/event/senior-girls-agassiz-away-615-bb/
END:VEVENT
BEGIN:VEVENT
DTSTART;TZID=UTC:20220110T153000
DTEND;TZID=UTC:20220110T170000
DTSTAMP:20260422T051126
CREATED:20211110T062736Z
LAST-MODIFIED:20211110T062736Z
UID:8140-1641828600-1641834000@dasmeshschool.com
SUMMARY:Grade 9- Heritage Away 3:30 (BB)
DESCRIPTION:
URL:https://dasmeshschool.com/event/grade-9-heritage-away-330-bb/
END:VEVENT
BEGIN:VEVENT
DTSTART;TZID=UTC:20211220T080000
DTEND;TZID=UTC:20211220T170000
DTSTAMP:20260422T051126
CREATED:20211104T044321Z
LAST-MODIFIED:20211104T044417Z
UID:8058-1639987200-1640019600@dasmeshschool.com
SUMMARY:Winter break starts
DESCRIPTION:Dec 20-  Jan 3
URL:https://dasmeshschool.com/event/winter-break-starts/
END:VEVENT
END:VCALENDAR