BEGIN:VCALENDAR
VERSION:2.0
PRODID:-//Dasmesh School - ECPv6.8.2.1//NONSGML v1.0//EN
CALSCALE:GREGORIAN
METHOD:PUBLISH
X-WR-CALNAME:Dasmesh School
X-ORIGINAL-URL:https://dasmeshschool.com
X-WR-CALDESC:Events for Dasmesh School
REFRESH-INTERVAL;VALUE=DURATION:PT1H
X-Robots-Tag:noindex
X-PUBLISHED-TTL:PT1H
BEGIN:VTIMEZONE
TZID:America/Vancouver
BEGIN:DAYLIGHT
TZOFFSETFROM:-0800
TZOFFSETTO:-0700
TZNAME:PDT
DTSTART:20240310T100000
END:DAYLIGHT
BEGIN:STANDARD
TZOFFSETFROM:-0700
TZOFFSETTO:-0800
TZNAME:PST
DTSTART:20241103T090000
END:STANDARD
TZID:UTC
BEGIN:STANDARD
TZOFFSETFROM:+0000
TZOFFSETTO:+0000
TZNAME:UTC
DTSTART:20240101T000000
END:STANDARD
END:VTIMEZONE
BEGIN:VEVENT
DTSTART;VALUE=DATE:20241111
DTEND;VALUE=DATE:20241112
DTSTAMP:20260421T053116
CREATED:20250526T223233Z
LAST-MODIFIED:20250526T235111Z
UID:11355-1731283200-1731369599@dasmeshschool.com
SUMMARY:Remembrance Day
DESCRIPTION:
URL:https://dasmeshschool.com/event/remembrance-day/
END:VEVENT
BEGIN:VEVENT
DTSTART;VALUE=DATE:20241101
DTEND;VALUE=DATE:20241102
DTSTAMP:20260421T053116
CREATED:20250526T223202Z
LAST-MODIFIED:20250526T235140Z
UID:11353-1730419200-1730505599@dasmeshschool.com
SUMMARY:Diwali
DESCRIPTION:
URL:https://dasmeshschool.com/event/diwali-2/
END:VEVENT
BEGIN:VEVENT
DTSTART;VALUE=DATE:20241025
DTEND;VALUE=DATE:20241026
DTSTAMP:20260421T053116
CREATED:20250526T223136Z
LAST-MODIFIED:20250526T235606Z
UID:11351-1729814400-1729900799@dasmeshschool.com
SUMMARY:Provincial Pro D Day
DESCRIPTION:
URL:https://dasmeshschool.com/event/provincial-pro-d-day-2/
END:VEVENT
BEGIN:VEVENT
DTSTART;VALUE=DATE:20241017
DTEND;VALUE=DATE:20241018
DTSTAMP:20260421T053116
CREATED:20250526T223054Z
LAST-MODIFIED:20250526T235559Z
UID:11349-1729123200-1729209599@dasmeshschool.com
SUMMARY:Shakeout Drill BC
DESCRIPTION:
URL:https://dasmeshschool.com/event/shakeout-drill-bc-2/
END:VEVENT
BEGIN:VEVENT
DTSTART;VALUE=DATE:20241015
DTEND;VALUE=DATE:20241016
DTSTAMP:20260421T053116
CREATED:20250526T223017Z
LAST-MODIFIED:20250526T235409Z
UID:11347-1728950400-1729036799@dasmeshschool.com
SUMMARY:Photo Retakes
DESCRIPTION:
URL:https://dasmeshschool.com/event/photo-retakes-5/
END:VEVENT
BEGIN:VEVENT
DTSTART;VALUE=DATE:20241014
DTEND;VALUE=DATE:20241015
DTSTAMP:20260421T053116
CREATED:20250526T222946Z
LAST-MODIFIED:20250526T235419Z
UID:11345-1728864000-1728950399@dasmeshschool.com
SUMMARY:Thanksgiving Day
DESCRIPTION:
URL:https://dasmeshschool.com/event/thanksgiving-day-2/
END:VEVENT
BEGIN:VEVENT
DTSTART;TZID=America/Vancouver:20241003T080000
DTEND;TZID=America/Vancouver:20241108T170000
DTSTAMP:20260421T053116
CREATED:20250526T222917Z
LAST-MODIFIED:20250526T235536Z
UID:11343-1727942400-1731085200@dasmeshschool.com
SUMMARY:FSA (4-7)
DESCRIPTION:
URL:https://dasmeshschool.com/event/fsa-4-7/
END:VEVENT
BEGIN:VEVENT
DTSTART;VALUE=DATE:20240930
DTEND;VALUE=DATE:20241001
DTSTAMP:20260421T053116
CREATED:20250526T222630Z
LAST-MODIFIED:20250526T235531Z
UID:11341-1727654400-1727740799@dasmeshschool.com
SUMMARY:Truth & Reconciliation Day
DESCRIPTION:
URL:https://dasmeshschool.com/event/truth-reconciliation-day/
END:VEVENT
BEGIN:VEVENT
DTSTART;VALUE=DATE:20240927
DTEND;VALUE=DATE:20240928
DTSTAMP:20260421T053116
CREATED:20250526T222541Z
LAST-MODIFIED:20250526T235313Z
UID:11339-1727395200-1727481599@dasmeshschool.com
SUMMARY:Pro D Day
DESCRIPTION:
URL:https://dasmeshschool.com/event/pro-d-day-5/
END:VEVENT
BEGIN:VEVENT
DTSTART;TZID=America/Vancouver:20240921T140000
DTEND;TZID=America/Vancouver:20240921T170000
DTSTAMP:20260421T053116
CREATED:20250526T222517Z
LAST-MODIFIED:20250526T235505Z
UID:11337-1726927200-1726938000@dasmeshschool.com
SUMMARY:DPEA AGM
DESCRIPTION:
URL:https://dasmeshschool.com/event/dpea-agm-2/
END:VEVENT
BEGIN:VEVENT
DTSTART;VALUE=DATE:20240917
DTEND;VALUE=DATE:20240918
DTSTAMP:20260421T053116
CREATED:20250526T222442Z
LAST-MODIFIED:20250526T235448Z
UID:11335-1726531200-1726617599@dasmeshschool.com
SUMMARY:Photo Day
DESCRIPTION:
URL:https://dasmeshschool.com/event/photo-day-6/
END:VEVENT
BEGIN:VEVENT
DTSTART;VALUE=DATE:20240916
DTEND;VALUE=DATE:20240917
DTSTAMP:20260421T053116
CREATED:20250526T222402Z
LAST-MODIFIED:20250526T235355Z
UID:11333-1726444800-1726531199@dasmeshschool.com
SUMMARY:Terry Fox Run
DESCRIPTION:
URL:https://dasmeshschool.com/event/terry-fox-run-3/
END:VEVENT
BEGIN:VEVENT
DTSTART;VALUE=DATE:20240903
DTEND;VALUE=DATE:20240904
DTSTAMP:20260421T053116
CREATED:20250526T222329Z
LAST-MODIFIED:20250526T235734Z
UID:11331-1725321600-1725407999@dasmeshschool.com
SUMMARY:Semester 1 Begins
DESCRIPTION:
URL:https://dasmeshschool.com/event/semester-1-begins/
END:VEVENT
BEGIN:VEVENT
DTSTART;VALUE=DATE:20240903
DTEND;VALUE=DATE:20240904
DTSTAMP:20260421T053116
CREATED:20250526T222257Z
LAST-MODIFIED:20250526T235749Z
UID:11329-1725321600-1725407999@dasmeshschool.com
SUMMARY:School Opens - Tue/Half Day
DESCRIPTION:
URL:https://dasmeshschool.com/event/school-opens-tue-half-day/
END:VEVENT
BEGIN:VEVENT
DTSTART;VALUE=DATE:20240902
DTEND;VALUE=DATE:20240903
DTSTAMP:20260421T053116
CREATED:20250526T222203Z
LAST-MODIFIED:20250526T235805Z
UID:11327-1725235200-1725321599@dasmeshschool.com
SUMMARY:Labour Day
DESCRIPTION:
URL:https://dasmeshschool.com/event/labour-day-2/
END:VEVENT
BEGIN:VEVENT
DTSTART;TZID=UTC:20240627T080000
DTEND;TZID=UTC:20240628T170000
DTSTAMP:20260421T053116
CREATED:20230920T005324Z
LAST-MODIFIED:20230920T005324Z
UID:9031-1719475200-1719594000@dasmeshschool.com
SUMMARY:Admin Days
DESCRIPTION:
URL:https://dasmeshschool.com/event/admin-days/
END:VEVENT
BEGIN:VEVENT
DTSTART;TZID=UTC:20240626T080000
DTEND;TZID=UTC:20240626T150000
DTSTAMP:20260421T053116
CREATED:20230920T005225Z
LAST-MODIFIED:20230920T005225Z
UID:9029-1719388800-1719414000@dasmeshschool.com
SUMMARY:Awards Assemblies(K-12)
DESCRIPTION:
URL:https://dasmeshschool.com/event/awards-assembliesk-12/
END:VEVENT
BEGIN:VEVENT
DTSTART;TZID=UTC:20240617T133000
DTEND;TZID=UTC:20240617T143000
DTSTAMP:20260421T053116
CREATED:20240124T041353Z
LAST-MODIFIED:20240124T041353Z
UID:9593-1718631000-1718634600@dasmeshschool.com
SUMMARY:PAC MEETING
DESCRIPTION:
URL:https://dasmeshschool.com/event/pac-meeting-5/
LOCATION:Dasmesh Punjabi School\, 5930 Riverside Street\, Abbotsford\, BC\, V4X 1T8\, Canada
END:VEVENT
BEGIN:VEVENT
DTSTART;TZID=UTC:20240617T080000
DTEND;TZID=UTC:20240621T170000
DTSTAMP:20260421T053116
CREATED:20230920T011305Z
LAST-MODIFIED:20230920T011305Z
UID:9052-1718611200-1718989200@dasmeshschool.com
SUMMARY:School exams
DESCRIPTION:
URL:https://dasmeshschool.com/event/school-exams-3/
END:VEVENT
BEGIN:VEVENT
DTSTART;TZID=UTC:20240614T100000
DTEND;TZID=UTC:20240614T150000
DTSTAMP:20260421T053116
CREATED:20230919T020857Z
LAST-MODIFIED:20230919T020857Z
UID:9025-1718359200-1718377200@dasmeshschool.com
SUMMARY:Convocation/Grad ceremony
DESCRIPTION:
URL:https://dasmeshschool.com/event/convocation-grad-ceremony-3/
END:VEVENT
BEGIN:VEVENT
DTSTART;TZID=UTC:20240610T080000
DTEND;TZID=UTC:20240610T120000
DTSTAMP:20260421T053116
CREATED:20230919T020715Z
LAST-MODIFIED:20230919T020715Z
UID:9023-1718006400-1718020800@dasmeshschool.com
SUMMARY:Guru Arjan Dev Ji's Martyrdom Day
DESCRIPTION:
URL:https://dasmeshschool.com/event/guru-arjan-dev-jis-martyrdom-day-3/
END:VEVENT
BEGIN:VEVENT
DTSTART;TZID=UTC:20240521T170000
DTEND;TZID=UTC:20240521T180000
DTSTAMP:20260421T053116
CREATED:20240124T041310Z
LAST-MODIFIED:20240124T041310Z
UID:9591-1716310800-1716314400@dasmeshschool.com
SUMMARY:PAC MEETING
DESCRIPTION:
URL:https://dasmeshschool.com/event/pac-meeting-4/
LOCATION:Dasmesh Punjabi School\, 5930 Riverside Street\, Abbotsford\, BC\, V4X 1T8\, Canada
END:VEVENT
BEGIN:VEVENT
DTSTART;TZID=UTC:20240520T080000
DTEND;TZID=UTC:20240520T170000
DTSTAMP:20260421T053116
CREATED:20230920T011203Z
LAST-MODIFIED:20230920T011203Z
UID:9050-1716192000-1716224400@dasmeshschool.com
SUMMARY:Victoria Day
DESCRIPTION:
URL:https://dasmeshschool.com/event/victoria-day-4/
END:VEVENT
BEGIN:VEVENT
DTSTART;TZID=UTC:20240517T080000
DTEND;TZID=UTC:20240517T170000
DTSTAMP:20260421T053116
CREATED:20230919T020553Z
LAST-MODIFIED:20230919T020553Z
UID:9021-1715932800-1715965200@dasmeshschool.com
SUMMARY:Dasmesh Pro D Day
DESCRIPTION:
URL:https://dasmeshschool.com/event/dasmesh-pro-d-day-3/
END:VEVENT
BEGIN:VEVENT
DTSTART;TZID=UTC:20240415T133000
DTEND;TZID=UTC:20240415T140000
DTSTAMP:20260421T053116
CREATED:20240124T041159Z
LAST-MODIFIED:20240124T041159Z
UID:9589-1713187800-1713189600@dasmeshschool.com
SUMMARY:PAC MEETING
DESCRIPTION:
URL:https://dasmeshschool.com/event/pac-meeting-3/
LOCATION:Dasmesh Punjabi School\, 5930 Riverside Street\, Abbotsford\, BC\, V4X 1T8\, Canada
END:VEVENT
BEGIN:VEVENT
DTSTART;TZID=UTC:20240412T080000
DTEND;TZID=UTC:20240412T170000
DTSTAMP:20260421T053116
CREATED:20230919T020432Z
LAST-MODIFIED:20230919T020432Z
UID:9019-1712908800-1712941200@dasmeshschool.com
SUMMARY:Vaisakhi
DESCRIPTION:
URL:https://dasmeshschool.com/event/vaisakhi-2/
END:VEVENT
BEGIN:VEVENT
DTSTART;TZID=UTC:20240402T080000
DTEND;TZID=UTC:20240402T170000
DTSTAMP:20260421T053116
CREATED:20230919T020335Z
LAST-MODIFIED:20230919T020335Z
UID:9017-1712044800-1712077200@dasmeshschool.com
SUMMARY:School Re-opens
DESCRIPTION:
URL:https://dasmeshschool.com/event/school-re-opens-5/
END:VEVENT
BEGIN:VEVENT
DTSTART;TZID=UTC:20240318T080000
DTEND;TZID=UTC:20240401T170000
DTSTAMP:20260421T053116
CREATED:20230919T020206Z
LAST-MODIFIED:20230919T020206Z
UID:9015-1710748800-1711990800@dasmeshschool.com
SUMMARY:Spring Break
DESCRIPTION:
URL:https://dasmeshschool.com/event/spring-break-9/
END:VEVENT
BEGIN:VEVENT
DTSTART;TZID=UTC:20240315T080000
DTEND;TZID=UTC:20240315T170000
DTSTAMP:20260421T053116
CREATED:20230919T020012Z
LAST-MODIFIED:20230919T020012Z
UID:9013-1710489600-1710522000@dasmeshschool.com
SUMMARY:Term 2 Report Cards (K-8)
DESCRIPTION:
URL:https://dasmeshschool.com/event/term-2-report-cards-k-8-2/
END:VEVENT
BEGIN:VEVENT
DTSTART;TZID=UTC:20240311T170000
DTEND;TZID=UTC:20240311T180000
DTSTAMP:20260421T053116
CREATED:20240124T041102Z
LAST-MODIFIED:20240124T041102Z
UID:9587-1710176400-1710180000@dasmeshschool.com
SUMMARY:PAC MEETING
DESCRIPTION:
URL:https://dasmeshschool.com/event/pac-meeting-2/
LOCATION:Dasmesh Punjabi School\, 5930 Riverside Street\, Abbotsford\, BC\, V4X 1T8\, Canada
END:VEVENT
END:VCALENDAR