BEGIN:VCALENDAR
VERSION:2.0
PRODID:-//Dasmesh School - ECPv6.8.2.1//NONSGML v1.0//EN
CALSCALE:GREGORIAN
METHOD:PUBLISH
X-WR-CALNAME:Dasmesh School
X-ORIGINAL-URL:https://dasmeshschool.com
X-WR-CALDESC:Events for Dasmesh School
REFRESH-INTERVAL;VALUE=DURATION:PT1H
X-Robots-Tag:noindex
X-PUBLISHED-TTL:PT1H
BEGIN:VTIMEZONE
TZID:America/Vancouver
BEGIN:DAYLIGHT
TZOFFSETFROM:-0800
TZOFFSETTO:-0700
TZNAME:PDT
DTSTART:20160313T100000
END:DAYLIGHT
BEGIN:STANDARD
TZOFFSETFROM:-0700
TZOFFSETTO:-0800
TZNAME:PST
DTSTART:20161106T090000
END:STANDARD
END:VTIMEZONE
BEGIN:VEVENT
DTSTART;VALUE=DATE:20160106
DTEND;VALUE=DATE:20160107
DTSTAMP:20260423T160356
CREATED:20250526T234501Z
LAST-MODIFIED:20250526T234501Z
UID:11410-1452038400-1452124799@dasmeshschool.com
SUMMARY:School Reopens
DESCRIPTION:
URL:https://dasmeshschool.com/event/school-reopens-7/
END:VEVENT
END:VCALENDAR