BEGIN:VCALENDAR
VERSION:2.0
PRODID:-//Dasmesh School - ECPv6.8.2.1//NONSGML v1.0//EN
CALSCALE:GREGORIAN
METHOD:PUBLISH
X-WR-CALNAME:Dasmesh School
X-ORIGINAL-URL:https://dasmeshschool.com
X-WR-CALDESC:Events for Dasmesh School
REFRESH-INTERVAL;VALUE=DURATION:PT1H
X-Robots-Tag:noindex
X-PUBLISHED-TTL:PT1H
BEGIN:VTIMEZONE
TZID:UTC
BEGIN:STANDARD
TZOFFSETFROM:+0000
TZOFFSETTO:+0000
TZNAME:UTC
DTSTART:20230101T000000
END:STANDARD
END:VTIMEZONE
BEGIN:VEVENT
DTSTART;TZID=UTC:20240220T133000
DTEND;TZID=UTC:20240220T143000
DTSTAMP:20260421T105538
CREATED:20240124T041012Z
LAST-MODIFIED:20240124T041012Z
UID:9585-1708435800-1708439400@dasmeshschool.com
SUMMARY:PAC MEETING
DESCRIPTION:
URL:https://dasmeshschool.com/event/pac-meeting/
LOCATION:Dasmesh Punjabi School\, 5930 Riverside Street\, Abbotsford\, BC\, V4X 1T8\, Canada
END:VEVENT
BEGIN:VEVENT
DTSTART;TZID=UTC:20240219T080000
DTEND;TZID=UTC:20240219T170000
DTSTAMP:20260421T105538
CREATED:20230920T011042Z
LAST-MODIFIED:20230920T011042Z
UID:9048-1708329600-1708362000@dasmeshschool.com
SUMMARY:Family Day
DESCRIPTION:
URL:https://dasmeshschool.com/event/family-day-3/
END:VEVENT
BEGIN:VEVENT
DTSTART;VALUE=DATE:20240216
DTEND;VALUE=DATE:20240217
DTSTAMP:20260421T105538
CREATED:20230919T015508Z
LAST-MODIFIED:20230919T015508Z
UID:9009-1708041600-1708127999@dasmeshschool.com
SUMMARY:Provincial Professional Development Day
DESCRIPTION:No School for Students
URL:https://dasmeshschool.com/event/provincial-professional-development-day-2/
END:VEVENT
BEGIN:VEVENT
DTSTART;VALUE=DATE:20240201
DTEND;VALUE=DATE:20240202
DTSTAMP:20260421T105538
CREATED:20230919T015334Z
LAST-MODIFIED:20230919T015334Z
UID:9007-1706745600-1706831999@dasmeshschool.com
SUMMARY:Semester 2 Q3 Begins
DESCRIPTION:
URL:https://dasmeshschool.com/event/semester-2-q3-begins/
END:VEVENT
BEGIN:VEVENT
DTSTART;TZID=UTC:20240122T080000
DTEND;TZID=UTC:20240126T170000
DTSTAMP:20260421T105538
CREATED:20230919T014946Z
LAST-MODIFIED:20230919T014946Z
UID:9004-1705910400-1706288400@dasmeshschool.com
SUMMARY:School Exams
DESCRIPTION:
URL:https://dasmeshschool.com/event/school-exams/
END:VEVENT
BEGIN:VEVENT
DTSTART;TZID=UTC:20240122T080000
DTEND;TZID=UTC:20240126T170000
DTSTAMP:20260421T105538
CREATED:20230919T014843Z
LAST-MODIFIED:20230919T014843Z
UID:9002-1705910400-1706288400@dasmeshschool.com
SUMMARY:Numeracy / Literacy Exams
DESCRIPTION:Grade 10: Numeracy + Literacy \nGrade 12: Literacy
URL:https://dasmeshschool.com/event/numeracy-literacy-exams/
END:VEVENT
BEGIN:VEVENT
DTSTART;TZID=UTC:20240122T080000
DTEND;TZID=UTC:20240122T120000
DTSTAMP:20260421T105538
CREATED:20230919T014635Z
LAST-MODIFIED:20230919T014635Z
UID:9000-1705910400-1705924800@dasmeshschool.com
SUMMARY:Guru Gobind Singh Ji's Birthday
DESCRIPTION:
URL:https://dasmeshschool.com/event/guru-gobind-singh-jis-birthday-2/
END:VEVENT
BEGIN:VEVENT
DTSTART;TZID=UTC:20240108T080000
DTEND;TZID=UTC:20240108T170000
DTSTAMP:20260421T105538
CREATED:20230919T014502Z
LAST-MODIFIED:20230919T014502Z
UID:8998-1704700800-1704733200@dasmeshschool.com
SUMMARY:School Re-opens
DESCRIPTION:
URL:https://dasmeshschool.com/event/school-re-opens-4/
END:VEVENT
BEGIN:VEVENT
DTSTART;TZID=UTC:20231223T080000
DTEND;TZID=UTC:20240107T170000
DTSTAMP:20260421T105538
CREATED:20230919T014408Z
LAST-MODIFIED:20231208T010734Z
UID:8996-1703318400-1704646800@dasmeshschool.com
SUMMARY:Winter Break Dec 23-Jan 7
DESCRIPTION:
URL:https://dasmeshschool.com/event/winter-break-5/
END:VEVENT
BEGIN:VEVENT
DTSTART;VALUE=DATE:20231215
DTEND;VALUE=DATE:20231216
DTSTAMP:20260421T105538
CREATED:20230919T014330Z
LAST-MODIFIED:20231208T010912Z
UID:8994-1702598400-1702684799@dasmeshschool.com
SUMMARY:Martyrdom Day Observance
DESCRIPTION:
URL:https://dasmeshschool.com/event/martyrdom-day-observance-2/
END:VEVENT
BEGIN:VEVENT
DTSTART;VALUE=DATE:20231201
DTEND;VALUE=DATE:20231202
DTSTAMP:20260421T105538
CREATED:20230919T014225Z
LAST-MODIFIED:20230919T014225Z
UID:8992-1701388800-1701475199@dasmeshschool.com
SUMMARY:Professional Development Day
DESCRIPTION:No school for students
URL:https://dasmeshschool.com/event/professional-development-day-2/
END:VEVENT
BEGIN:VEVENT
DTSTART;TZID=UTC:20231127T080000
DTEND;TZID=UTC:20231127T170000
DTSTAMP:20260421T105538
CREATED:20230920T010912Z
LAST-MODIFIED:20230920T010912Z
UID:9046-1701072000-1701104400@dasmeshschool.com
SUMMARY:Term/Q2 2 Begins
DESCRIPTION:
URL:https://dasmeshschool.com/event/term-q2-2-begins/
END:VEVENT
BEGIN:VEVENT
DTSTART;TZID=UTC:20231124T080000
DTEND;TZID=UTC:20231124T170000
DTSTAMP:20260421T105538
CREATED:20230920T010730Z
LAST-MODIFIED:20230920T010730Z
UID:9044-1700812800-1700845200@dasmeshschool.com
SUMMARY:Term 1/SemesterQ 1 Report cards (K-12)
DESCRIPTION:
URL:https://dasmeshschool.com/event/term-1-semesterq-1-report-cards-k-12/
END:VEVENT
BEGIN:VEVENT
DTSTART;TZID=UTC:20231124T080000
DTEND;TZID=UTC:20231124T120000
DTSTAMP:20260421T105538
CREATED:20230919T013837Z
LAST-MODIFIED:20230919T013837Z
UID:8986-1700812800-1700827200@dasmeshschool.com
SUMMARY:Guru Nanak Dev Ji's Birthday
DESCRIPTION:
URL:https://dasmeshschool.com/event/guru-nanak-dev-jis-birthday-2/
END:VEVENT
BEGIN:VEVENT
DTSTART;TZID=UTC:20231117T080000
DTEND;TZID=UTC:20231117T170000
DTSTAMP:20260421T105538
CREATED:20230920T010612Z
LAST-MODIFIED:20230920T010612Z
UID:9042-1700208000-1700240400@dasmeshschool.com
SUMMARY:Diwali in school celebration
DESCRIPTION:
URL:https://dasmeshschool.com/event/diwali-in-school-celebration/
END:VEVENT
BEGIN:VEVENT
DTSTART;TZID=UTC:20231113T080000
DTEND;TZID=UTC:20231113T170000
DTSTAMP:20260421T105538
CREATED:20230920T010459Z
LAST-MODIFIED:20231109T012302Z
UID:9040-1699862400-1699894800@dasmeshschool.com
SUMMARY:Rememberance Day Holiday
DESCRIPTION:
URL:https://dasmeshschool.com/event/rememberance-day-in-school/
END:VEVENT
BEGIN:VEVENT
DTSTART;TZID=UTC:20231110T100000
DTEND;TZID=UTC:20231110T110000
DTSTAMP:20260421T105538
CREATED:20231109T012546Z
LAST-MODIFIED:20231109T012546Z
UID:9154-1699610400-1699614000@dasmeshschool.com
SUMMARY:Remembrance Day- In school
DESCRIPTION:
URL:https://dasmeshschool.com/event/remembrance-day-in-school/
END:VEVENT
BEGIN:VEVENT
DTSTART;TZID=UTC:20231020T080000
DTEND;TZID=UTC:20231020T170000
DTSTAMP:20260421T105538
CREATED:20230919T013043Z
LAST-MODIFIED:20230919T013043Z
UID:8978-1697788800-1697821200@dasmeshschool.com
SUMMARY:Provincial Professional Development Day
DESCRIPTION:
URL:https://dasmeshschool.com/event/provincial-professional-development-day/
END:VEVENT
BEGIN:VEVENT
DTSTART;TZID=UTC:20231019T080000
DTEND;TZID=UTC:20231019T170000
DTSTAMP:20260421T105538
CREATED:20230920T005946Z
LAST-MODIFIED:20230920T005946Z
UID:9034-1697702400-1697734800@dasmeshschool.com
SUMMARY:Shakeout Drill Bc
DESCRIPTION:
URL:https://dasmeshschool.com/event/shakeout-drill-bc/
END:VEVENT
BEGIN:VEVENT
DTSTART;TZID=UTC:20231017T080000
DTEND;TZID=UTC:20231017T153000
DTSTAMP:20260421T105538
CREATED:20230919T012848Z
LAST-MODIFIED:20230919T012848Z
UID:8974-1697529600-1697556600@dasmeshschool.com
SUMMARY:Photo Retakes
DESCRIPTION:
URL:https://dasmeshschool.com/event/photo-retakes-4/
END:VEVENT
BEGIN:VEVENT
DTSTART;VALUE=DATE:20231009
DTEND;VALUE=DATE:20231010
DTSTAMP:20260421T105538
CREATED:20230919T012803Z
LAST-MODIFIED:20230919T012803Z
UID:8972-1696809600-1696895999@dasmeshschool.com
SUMMARY:Thanksgiving Day
DESCRIPTION:No School for Students
URL:https://dasmeshschool.com/event/thanksgiving-day/
END:VEVENT
BEGIN:VEVENT
DTSTART;TZID=UTC:20231002T080000
DTEND;TZID=UTC:20231110T150000
DTSTAMP:20260421T105538
CREATED:20230919T013218Z
LAST-MODIFIED:20230919T013218Z
UID:8980-1696233600-1699628400@dasmeshschool.com
SUMMARY:FSA (Grades 4-7)
DESCRIPTION:
URL:https://dasmeshschool.com/event/fsa-grades-4-7/
END:VEVENT
BEGIN:VEVENT
DTSTART;VALUE=DATE:20231002
DTEND;VALUE=DATE:20231003
DTSTAMP:20260421T105538
CREATED:20230919T012640Z
LAST-MODIFIED:20230919T012640Z
UID:8970-1696204800-1696291199@dasmeshschool.com
SUMMARY:Truth and Reconciliation Day
DESCRIPTION:No School for Students
URL:https://dasmeshschool.com/event/truth-and-reconciliation-day/
END:VEVENT
BEGIN:VEVENT
DTSTART;VALUE=DATE:20230929
DTEND;VALUE=DATE:20230930
DTSTAMP:20260421T105538
CREATED:20230919T012528Z
LAST-MODIFIED:20230919T012528Z
UID:8968-1695945600-1696031999@dasmeshschool.com
SUMMARY:Professional Development Day
DESCRIPTION:No School For Students \n 
URL:https://dasmeshschool.com/event/professional-development-day/
END:VEVENT
BEGIN:VEVENT
DTSTART;TZID=UTC:20230923T000000
DTEND;TZID=UTC:20230923T140000
DTSTAMP:20260421T105538
CREATED:20230919T012343Z
LAST-MODIFIED:20230921T015151Z
UID:8966-1695427200-1695477600@dasmeshschool.com
SUMMARY:DPEA AGM
DESCRIPTION:Annual General Meeting
URL:https://dasmeshschool.com/event/dpea-agm/
END:VEVENT
BEGIN:VEVENT
DTSTART;VALUE=DATE:20230922
DTEND;VALUE=DATE:20230923
DTSTAMP:20260421T105538
CREATED:20230919T012149Z
LAST-MODIFIED:20230919T012149Z
UID:8964-1695340800-1695427199@dasmeshschool.com
SUMMARY:Terry Fox Run
DESCRIPTION:
URL:https://dasmeshschool.com/event/terry-fox-run-2/
END:VEVENT
BEGIN:VEVENT
DTSTART;TZID=UTC:20230919T083000
DTEND;TZID=UTC:20230919T153000
DTSTAMP:20260421T105538
CREATED:20230919T012110Z
LAST-MODIFIED:20230919T012110Z
UID:8962-1695112200-1695137400@dasmeshschool.com
SUMMARY:Photo Day
DESCRIPTION:Students Must be in Full Uniform
URL:https://dasmeshschool.com/event/photo-day-5/
END:VEVENT
BEGIN:VEVENT
DTSTART;VALUE=DATE:20230905
DTEND;VALUE=DATE:20230906
DTSTAMP:20260421T105538
CREATED:20230919T011928Z
LAST-MODIFIED:20230919T011928Z
UID:8960-1693872000-1693958399@dasmeshschool.com
SUMMARY:School Opens
DESCRIPTION:Half Day \nTerm 1 / Semester 1 begins
URL:https://dasmeshschool.com/event/school-opens/
END:VEVENT
BEGIN:VEVENT
DTSTART;VALUE=DATE:20230904
DTEND;VALUE=DATE:20230905
DTSTAMP:20260421T105538
CREATED:20230919T011754Z
LAST-MODIFIED:20230919T011754Z
UID:8958-1693785600-1693871999@dasmeshschool.com
SUMMARY:Labour Day
DESCRIPTION:
URL:https://dasmeshschool.com/event/labour-day/
END:VEVENT
BEGIN:VEVENT
DTSTART;VALUE=DATE:20230628
DTEND;VALUE=DATE:20230629
DTSTAMP:20260421T105538
CREATED:20221015T014104Z
LAST-MODIFIED:20221015T014104Z
UID:8687-1687910400-1687996799@dasmeshschool.com
SUMMARY:Awards Assemblies (K-12)
DESCRIPTION:
URL:https://dasmeshschool.com/event/awards-assemblies-k-12/
END:VEVENT
END:VCALENDAR