BEGIN:VCALENDAR
VERSION:2.0
PRODID:-//Dasmesh School - ECPv6.8.2.1//NONSGML v1.0//EN
CALSCALE:GREGORIAN
METHOD:PUBLISH
X-WR-CALNAME:Dasmesh School
X-ORIGINAL-URL:https://dasmeshschool.com
X-WR-CALDESC:Events for Dasmesh School
REFRESH-INTERVAL;VALUE=DURATION:PT1H
X-Robots-Tag:noindex
X-PUBLISHED-TTL:PT1H
BEGIN:VTIMEZONE
TZID:UTC
BEGIN:STANDARD
TZOFFSETFROM:+0000
TZOFFSETTO:+0000
TZNAME:UTC
DTSTART:20220101T000000
END:STANDARD
END:VTIMEZONE
BEGIN:VEVENT
DTSTART;VALUE=DATE:20231009
DTEND;VALUE=DATE:20231010
DTSTAMP:20260421T143630
CREATED:20230919T012803Z
LAST-MODIFIED:20230919T012803Z
UID:8972-1696809600-1696895999@dasmeshschool.com
SUMMARY:Thanksgiving Day
DESCRIPTION:No School for Students
URL:https://dasmeshschool.com/event/thanksgiving-day/
END:VEVENT
BEGIN:VEVENT
DTSTART;TZID=UTC:20231002T080000
DTEND;TZID=UTC:20231110T150000
DTSTAMP:20260421T143630
CREATED:20230919T013218Z
LAST-MODIFIED:20230919T013218Z
UID:8980-1696233600-1699628400@dasmeshschool.com
SUMMARY:FSA (Grades 4-7)
DESCRIPTION:
URL:https://dasmeshschool.com/event/fsa-grades-4-7/
END:VEVENT
BEGIN:VEVENT
DTSTART;VALUE=DATE:20231002
DTEND;VALUE=DATE:20231003
DTSTAMP:20260421T143630
CREATED:20230919T012640Z
LAST-MODIFIED:20230919T012640Z
UID:8970-1696204800-1696291199@dasmeshschool.com
SUMMARY:Truth and Reconciliation Day
DESCRIPTION:No School for Students
URL:https://dasmeshschool.com/event/truth-and-reconciliation-day/
END:VEVENT
BEGIN:VEVENT
DTSTART;VALUE=DATE:20230929
DTEND;VALUE=DATE:20230930
DTSTAMP:20260421T143630
CREATED:20230919T012528Z
LAST-MODIFIED:20230919T012528Z
UID:8968-1695945600-1696031999@dasmeshschool.com
SUMMARY:Professional Development Day
DESCRIPTION:No School For Students \n 
URL:https://dasmeshschool.com/event/professional-development-day/
END:VEVENT
BEGIN:VEVENT
DTSTART;TZID=UTC:20230923T000000
DTEND;TZID=UTC:20230923T140000
DTSTAMP:20260421T143630
CREATED:20230919T012343Z
LAST-MODIFIED:20230921T015151Z
UID:8966-1695427200-1695477600@dasmeshschool.com
SUMMARY:DPEA AGM
DESCRIPTION:Annual General Meeting
URL:https://dasmeshschool.com/event/dpea-agm/
END:VEVENT
BEGIN:VEVENT
DTSTART;VALUE=DATE:20230922
DTEND;VALUE=DATE:20230923
DTSTAMP:20260421T143630
CREATED:20230919T012149Z
LAST-MODIFIED:20230919T012149Z
UID:8964-1695340800-1695427199@dasmeshschool.com
SUMMARY:Terry Fox Run
DESCRIPTION:
URL:https://dasmeshschool.com/event/terry-fox-run-2/
END:VEVENT
BEGIN:VEVENT
DTSTART;TZID=UTC:20230919T083000
DTEND;TZID=UTC:20230919T153000
DTSTAMP:20260421T143630
CREATED:20230919T012110Z
LAST-MODIFIED:20230919T012110Z
UID:8962-1695112200-1695137400@dasmeshschool.com
SUMMARY:Photo Day
DESCRIPTION:Students Must be in Full Uniform
URL:https://dasmeshschool.com/event/photo-day-5/
END:VEVENT
BEGIN:VEVENT
DTSTART;VALUE=DATE:20230905
DTEND;VALUE=DATE:20230906
DTSTAMP:20260421T143630
CREATED:20230919T011928Z
LAST-MODIFIED:20230919T011928Z
UID:8960-1693872000-1693958399@dasmeshschool.com
SUMMARY:School Opens
DESCRIPTION:Half Day \nTerm 1 / Semester 1 begins
URL:https://dasmeshschool.com/event/school-opens/
END:VEVENT
BEGIN:VEVENT
DTSTART;VALUE=DATE:20230904
DTEND;VALUE=DATE:20230905
DTSTAMP:20260421T143630
CREATED:20230919T011754Z
LAST-MODIFIED:20230919T011754Z
UID:8958-1693785600-1693871999@dasmeshschool.com
SUMMARY:Labour Day
DESCRIPTION:
URL:https://dasmeshschool.com/event/labour-day/
END:VEVENT
BEGIN:VEVENT
DTSTART;VALUE=DATE:20230628
DTEND;VALUE=DATE:20230629
DTSTAMP:20260421T143630
CREATED:20221015T014104Z
LAST-MODIFIED:20221015T014104Z
UID:8687-1687910400-1687996799@dasmeshschool.com
SUMMARY:Awards Assemblies (K-12)
DESCRIPTION:
URL:https://dasmeshschool.com/event/awards-assemblies-k-12/
END:VEVENT
BEGIN:VEVENT
DTSTART;TZID=UTC:20230616T163000
DTEND;TZID=UTC:20230616T190000
DTSTAMP:20260421T143630
CREATED:20221015T014023Z
LAST-MODIFIED:20221015T014023Z
UID:8685-1686933000-1686942000@dasmeshschool.com
SUMMARY:Convocation/ Grad Ceremony
DESCRIPTION:
URL:https://dasmeshschool.com/event/convocation-grad-ceremony-2/
END:VEVENT
BEGIN:VEVENT
DTSTART;TZID=UTC:20230616T080000
DTEND;TZID=UTC:20230616T120000
DTSTAMP:20260421T143630
CREATED:20221015T013912Z
LAST-MODIFIED:20221015T013912Z
UID:8683-1686902400-1686916800@dasmeshschool.com
SUMMARY:Guru Arjan Dev Ji's Martyrdom Day
DESCRIPTION:
URL:https://dasmeshschool.com/event/guru-arjan-dev-jis-martyrdom-day-2/
END:VEVENT
BEGIN:VEVENT
DTSTART;VALUE=DATE:20230522
DTEND;VALUE=DATE:20230523
DTSTAMP:20260421T143630
CREATED:20221015T013812Z
LAST-MODIFIED:20221015T013812Z
UID:8681-1684713600-1684799999@dasmeshschool.com
SUMMARY:Victoria Day
DESCRIPTION:
URL:https://dasmeshschool.com/event/victoria-day-3/
END:VEVENT
BEGIN:VEVENT
DTSTART;VALUE=DATE:20230519
DTEND;VALUE=DATE:20230520
DTSTAMP:20260421T143630
CREATED:20221015T013745Z
LAST-MODIFIED:20221015T013745Z
UID:8679-1684454400-1684540799@dasmeshschool.com
SUMMARY:Dasmesh Pro D Day
DESCRIPTION:
URL:https://dasmeshschool.com/event/dasmesh-pro-d-day-2/
END:VEVENT
BEGIN:VEVENT
DTSTART;VALUE=DATE:20230414
DTEND;VALUE=DATE:20230415
DTSTAMP:20260421T143630
CREATED:20221015T013707Z
LAST-MODIFIED:20221015T013707Z
UID:8677-1681430400-1681516799@dasmeshschool.com
SUMMARY:Vaisakhi
DESCRIPTION:
URL:https://dasmeshschool.com/event/vaisakhi/
END:VEVENT
BEGIN:VEVENT
DTSTART;VALUE=DATE:20230410
DTEND;VALUE=DATE:20230411
DTSTAMP:20260421T143630
CREATED:20221015T013625Z
LAST-MODIFIED:20221015T013625Z
UID:8675-1681084800-1681171199@dasmeshschool.com
SUMMARY:Easter Monday
DESCRIPTION:
URL:https://dasmeshschool.com/event/easter-monday-2/
END:VEVENT
BEGIN:VEVENT
DTSTART;VALUE=DATE:20230407
DTEND;VALUE=DATE:20230408
DTSTAMP:20260421T143630
CREATED:20221015T013549Z
LAST-MODIFIED:20221015T013549Z
UID:8673-1680825600-1680911999@dasmeshschool.com
SUMMARY:Good Friday
DESCRIPTION:
URL:https://dasmeshschool.com/event/good-friday-3/
END:VEVENT
BEGIN:VEVENT
DTSTART;VALUE=DATE:20230327
DTEND;VALUE=DATE:20230328
DTSTAMP:20260421T143630
CREATED:20221015T013500Z
LAST-MODIFIED:20221015T013500Z
UID:8671-1679875200-1679961599@dasmeshschool.com
SUMMARY:School Re-Opens
DESCRIPTION:
URL:https://dasmeshschool.com/event/school-re-opens-3/
END:VEVENT
BEGIN:VEVENT
DTSTART;TZID=UTC:20230313T080000
DTEND;TZID=UTC:20230324T170000
DTSTAMP:20260421T143630
CREATED:20221015T013422Z
LAST-MODIFIED:20221015T013422Z
UID:8669-1678694400-1679677200@dasmeshschool.com
SUMMARY:Spring Break
DESCRIPTION:
URL:https://dasmeshschool.com/event/spring-break-8/
END:VEVENT
BEGIN:VEVENT
DTSTART;VALUE=DATE:20230220
DTEND;VALUE=DATE:20230221
DTSTAMP:20260421T143630
CREATED:20221015T013328Z
LAST-MODIFIED:20221015T013328Z
UID:8667-1676851200-1676937599@dasmeshschool.com
SUMMARY:BC Family Day
DESCRIPTION:
URL:https://dasmeshschool.com/event/bc-family-day/
END:VEVENT
BEGIN:VEVENT
DTSTART;TZID=UTC:20230219T080000
DTEND;TZID=UTC:20230219T170000
DTSTAMP:20260421T143630
CREATED:20230919T015819Z
LAST-MODIFIED:20230919T015819Z
UID:9011-1676793600-1676826000@dasmeshschool.com
SUMMARY:Family Day
DESCRIPTION:
URL:https://dasmeshschool.com/event/family-day-2/
END:VEVENT
BEGIN:VEVENT
DTSTART;VALUE=DATE:20230217
DTEND;VALUE=DATE:20230218
DTSTAMP:20260421T143630
CREATED:20221015T013241Z
LAST-MODIFIED:20221015T013241Z
UID:8665-1676592000-1676678399@dasmeshschool.com
SUMMARY:Provincial Pro D Day
DESCRIPTION:
URL:https://dasmeshschool.com/event/provincial-pro-d-day/
END:VEVENT
BEGIN:VEVENT
DTSTART;VALUE=DATE:20230120
DTEND;VALUE=DATE:20230121
DTSTAMP:20260421T143630
CREATED:20221015T013133Z
LAST-MODIFIED:20221015T013133Z
UID:8663-1674172800-1674259199@dasmeshschool.com
SUMMARY:Guru Gobind Singh Ji's Birthday
DESCRIPTION:
URL:https://dasmeshschool.com/event/guru-gobind-singh-jis-birthday/
END:VEVENT
BEGIN:VEVENT
DTSTART;VALUE=DATE:20230103
DTEND;VALUE=DATE:20230104
DTSTAMP:20260421T143630
CREATED:20221015T013041Z
LAST-MODIFIED:20221015T013041Z
UID:8661-1672704000-1672790399@dasmeshschool.com
SUMMARY:School Re-Opens
DESCRIPTION:
URL:https://dasmeshschool.com/event/school-re-opens-2/
END:VEVENT
BEGIN:VEVENT
DTSTART;TZID=UTC:20221219T080000
DTEND;TZID=UTC:20230102T170000
DTSTAMP:20260421T143630
CREATED:20221015T012827Z
LAST-MODIFIED:20221015T012827Z
UID:8659-1671436800-1672678800@dasmeshschool.com
SUMMARY:Winter Break
DESCRIPTION:
URL:https://dasmeshschool.com/event/winter-break-4/
END:VEVENT
BEGIN:VEVENT
DTSTART;VALUE=DATE:20221215
DTEND;VALUE=DATE:20221216
DTSTAMP:20260421T143630
CREATED:20221015T012642Z
LAST-MODIFIED:20221015T012642Z
UID:8657-1671062400-1671148799@dasmeshschool.com
SUMMARY:Martyrdom day Observance
DESCRIPTION:
URL:https://dasmeshschool.com/event/martyrdom-day-observance/
END:VEVENT
BEGIN:VEVENT
DTSTART;VALUE=DATE:20221202
DTEND;VALUE=DATE:20221203
DTSTAMP:20260421T143630
CREATED:20221015T012538Z
LAST-MODIFIED:20221015T012538Z
UID:8655-1669939200-1670025599@dasmeshschool.com
SUMMARY:Dasmesh Pro D Day
DESCRIPTION:
URL:https://dasmeshschool.com/event/dasmesh-pro-d-day/
END:VEVENT
BEGIN:VEVENT
DTSTART;TZID=UTC:20221118T080000
DTEND;TZID=UTC:20221118T120000
DTSTAMP:20260421T143630
CREATED:20221015T012417Z
LAST-MODIFIED:20221015T012417Z
UID:8653-1668758400-1668772800@dasmeshschool.com
SUMMARY:Guru Nanak Dev Ji's Birthday
DESCRIPTION:
URL:https://dasmeshschool.com/event/guru-nanak-dev-jis-birthday/
END:VEVENT
BEGIN:VEVENT
DTSTART;TZID=UTC:20221021T080000
DTEND;TZID=UTC:20221021T160000
DTSTAMP:20260421T143630
CREATED:20220909T020151Z
LAST-MODIFIED:20221015T034454Z
UID:8567-1666339200-1666368000@dasmeshschool.com
SUMMARY:Oct 21\, Pro-D Day
DESCRIPTION:No School for students
URL:https://dasmeshschool.com/event/oct-21-pro-d-day/
END:VEVENT
BEGIN:VEVENT
DTSTART;TZID=UTC:20221019T090000
DTEND;TZID=UTC:20221019T143000
DTSTAMP:20260421T143630
CREATED:20221014T035418Z
LAST-MODIFIED:20221015T034848Z
UID:8645-1666170000-1666189800@dasmeshschool.com
SUMMARY:Diwali
DESCRIPTION:October 19\, 2022 \nReligious celebrations- AM \nCultural celebrations- PM
URL:https://dasmeshschool.com/event/diwali/
END:VEVENT
END:VCALENDAR